BEGIN:VCALENDAR
VERSION:2.0
PRODID:-//DAN WENDEL AUCTIONS - ECPv6.15.20//NONSGML v1.0//EN
CALSCALE:GREGORIAN
METHOD:PUBLISH
X-ORIGINAL-URL:https://danwendelauctions.com
X-WR-CALDESC:Events for DAN WENDEL AUCTIONS
REFRESH-INTERVAL;VALUE=DURATION:PT1H
X-Robots-Tag:noindex
X-PUBLISHED-TTL:PT1H
BEGIN:VTIMEZONE
TZID:America/Chicago
BEGIN:DAYLIGHT
TZOFFSETFROM:-0600
TZOFFSETTO:-0500
TZNAME:CDT
DTSTART:20240310T080000
END:DAYLIGHT
BEGIN:STANDARD
TZOFFSETFROM:-0500
TZOFFSETTO:-0600
TZNAME:CST
DTSTART:20241103T070000
END:STANDARD
BEGIN:DAYLIGHT
TZOFFSETFROM:-0600
TZOFFSETTO:-0500
TZNAME:CDT
DTSTART:20250309T080000
END:DAYLIGHT
BEGIN:STANDARD
TZOFFSETFROM:-0500
TZOFFSETTO:-0600
TZNAME:CST
DTSTART:20251102T070000
END:STANDARD
BEGIN:DAYLIGHT
TZOFFSETFROM:-0600
TZOFFSETTO:-0500
TZNAME:CDT
DTSTART:20260308T080000
END:DAYLIGHT
BEGIN:STANDARD
TZOFFSETFROM:-0500
TZOFFSETTO:-0600
TZNAME:CST
DTSTART:20261101T070000
END:STANDARD
END:VTIMEZONE
BEGIN:VEVENT
DTSTART;TZID=America/Chicago:20251116T103000
DTEND;TZID=America/Chicago:20251116T183000
DTSTAMP:20260424T061531
CREATED:20251114T012746Z
LAST-MODIFIED:20251114T012822Z
UID:826-1763289000-1763317800@danwendelauctions.com
SUMMARY:UNIQUE ROSEVILLE & NAVAJO POTTERY • TOOLS • SNOWBLOWERS • VINTAGE/MODERN HOLIDAY ITEMS • COINS • CAST IRON COLLECTIBLES • VINTAGE GAMES/TOYS & MUCH MORE
DESCRIPTION:UNIQUE ROSEVILLE & NAVAJO POTTERY\, TOOLS\, SNOWBLOWERS\, VINTAGE/MODERN HOLIDAY ITEMS\, COINS\, CAST IRON COLLECTIBLES\, VINTAGE GAMES/TOYS & MUCH MORE!\nSUNDAY\, NOVEMBER 16th\, 2025\nHISTORIC REMBRANDT GYM in Rembrandt\, IA\n10:30AM – Center Ring\nOPEN HOUSE: THURSDAY\, NOVEMBER 13th\, 2025 — 2-5PM\nSale located at Historic Rembrandt Gym Auction House\, Rembrandt\, IA\n“The Only Game In Town”\nFOR PHOTOS & MORE\, CLICK *HERE*\nAuctioneer: Dan Wendel Land & Auction\, LLC – 712-661-9724 \nTerms: Cash\, good check\, or credit cards (3.5% convenience fee). Driver’s License ID required to obtain bidding number. Not responsible for accidents or theft. \nCOINS: Peace & Morgan silver dollars; Silver Kennedy half dollars; Others; \nHOLIDAY DECOR (VINTAGE CHRISTMAS\, MODERN DECOR): Aluminum Xmas trees; Papier-mâché Santa; Vintage ornaments & bubble lights; Collectible elves; Tree toppers; Lefton/other figurines; Quality decor; Ceramic tree; Several lighted blow molds; \nPOTTERY/GLASSWARE: Green Jadeite bowls; Fiestaware; Shirley Temple pictures; Green depression glass; Colored enamel ware; Porcelain tea set; Stoneware pitchers/bowls; Large Roseville collection (unique pieces); MCM pieces; Hall pitchers; McCoy planters; Colored Pyrex; 1950s cocktail glasses; Shawnee pig creamers & planters; Navajo pottery; Vintage mechanical banks; Pied Piper teapot; Talavera pottery; \nCOLLECTIBLES: Old license plates; Baseball card collections; Playboy magazine collections (1960–80s); Whiskey barrel; Sinclair gas metal sign; Shirley Temple doll; Old fishing lures; Gravel art pictures; MCM pictures/lamps; Barbie items (vinyl lunchbox\, dolls\, games); Little Golden Books; Budweiser Christmas Stein collection; Seashells & nautical items; Porcelain dolls; Costume jewelry; Sterling silver jewelry; Gold rings; Little Red Riding Hood cookie jar; John Deere collectibles & birdhouse w/stand; Vintage milk crates; Red Wing bean pot; Metal kitchen playset/doll houses; Assorted cast iron toys; 1960s games (Incredible Edibles\, Creepy Crawlers); 1960s race set; Vintage quilts; Rug beaters; Weather vanes; Walking sticks; Old airplane model kits; Sulfide marbles/other marbles; Singer Featherlite sewing machine; 1879 violin; Aladdin lamps; Shawnee lamp; Papier-mâché duck decoys; Woven baskets; Collectible jars/milk bottles; Wash boards; Huge collection of vintage hats; Large selection of comic books; Snap On collectible mugs; Wooden canister sets; Chalkware figures; Soda crates; Poultry waterer; Mountain Dew & Welch’s coolers; Windchimes; \nANTIQUES & MODERN FURNITURE: Edison Victrola w/records (works); Wicker plant stand; Drying rack; Dressers; Drop front desk; Oak table; Morris chair; Stepstool; \nHOUSEHOLD: Small appliances; Quality decor; Variety of nice household items; \nTOOLS/OUTDOOR: Craftsman bandsaw & jigsaw; Stepstool w/toolbox; Yard Machine 5hp snowblower; Murray Ultra 8hp snowblower; 5hp Swisher power trimmer; Snap On 2000psi powerwasher; (6) chainsaws; 2-cycle leaf blower; DeWalt power miter; Concrete saw; Stihl 2-cycle leaf blower; Weed trimmers; Appliance carts; Bosch power miter on stand; (2) Craftsman shop-vacs; (2) 2500psi powerwashers; Makita air compressor; Sawhorses; Router w/stand; Bradley smoker; Hand tools; New & used work/hiking boots; New Carhartt jackets.
URL:https://danwendelauctions.com/auction/unique-roseville-navajo-pottery-tools-snowblowers-vintage-modern-holiday-items-coins-cast-iron-collectibles-vintage-games-toys-much-more/
LOCATION:Rembrandt Gym Auction House\, 217 S 1st Ave\, Rembrandt\, IA\, 50576\, United States
CATEGORIES:Auctions
ORGANIZER;CN="Dan Wendel Land & Auction%2C LLC":MAILTO:danwendel78@icloud.com
END:VEVENT
END:VCALENDAR