BEGIN:VCALENDAR
VERSION:2.0
PRODID:-//DAN WENDEL AUCTIONS - ECPv6.15.20//NONSGML v1.0//EN
CALSCALE:GREGORIAN
METHOD:PUBLISH
X-WR-CALNAME:DAN WENDEL AUCTIONS
X-ORIGINAL-URL:https://danwendelauctions.com
X-WR-CALDESC:Events for DAN WENDEL AUCTIONS
REFRESH-INTERVAL;VALUE=DURATION:PT1H
X-Robots-Tag:noindex
X-PUBLISHED-TTL:PT1H
BEGIN:VTIMEZONE
TZID:America/Chicago
BEGIN:DAYLIGHT
TZOFFSETFROM:-0600
TZOFFSETTO:-0500
TZNAME:CDT
DTSTART:20240310T080000
END:DAYLIGHT
BEGIN:STANDARD
TZOFFSETFROM:-0500
TZOFFSETTO:-0600
TZNAME:CST
DTSTART:20241103T070000
END:STANDARD
BEGIN:DAYLIGHT
TZOFFSETFROM:-0600
TZOFFSETTO:-0500
TZNAME:CDT
DTSTART:20250309T080000
END:DAYLIGHT
BEGIN:STANDARD
TZOFFSETFROM:-0500
TZOFFSETTO:-0600
TZNAME:CST
DTSTART:20251102T070000
END:STANDARD
BEGIN:DAYLIGHT
TZOFFSETFROM:-0600
TZOFFSETTO:-0500
TZNAME:CDT
DTSTART:20260308T080000
END:DAYLIGHT
BEGIN:STANDARD
TZOFFSETFROM:-0500
TZOFFSETTO:-0600
TZNAME:CST
DTSTART:20261101T070000
END:STANDARD
END:VTIMEZONE
BEGIN:VEVENT
DTSTART;TZID=America/Chicago:20250504T103000
DTEND;TZID=America/Chicago:20250504T183000
DTSTAMP:20260425T033456
CREATED:20250501T195654Z
LAST-MODIFIED:20250501T195807Z
UID:796-1746354600-1746383400@danwendelauctions.com
SUMMARY:2007 VESPA MOTORCYCLE • ARCADE PINBALL MACHINES • QUALITY DECOR\, COINS • UNIQUE COLLECTIBLES • POTTERY • FURNITURE • TOOLS & MORE
DESCRIPTION:2007 VESPA MOTORCYCLE\, ARCADE PINBALL MACHINES\, QUALITY DECOR\, COINS\, UNIQUE COLLECTIBLES\, POTTERY\, FURNITURE\, TOOLS & MORE!\nSUNDAY\, MAY 4\, 2025 – 10:30 AM\nCoins (Center ring to follow)\nOPEN HOUSE: Friday\, May 2\, 2025\, 2–5PM SHARP\nSale located at Rembrandt Gym Auction House\n“The Only Game In Town”\nFOR PHOTOS & MORE\, CLICK *HERE*\nAuctioneer: Dan Wendel Land & Auction\, LLC 712-661-9724 \nTerms: Cash\, good check\, or credit card payment (3.5% fee). Driver’s license ID required to obtain bidding number. Not responsible for accidents or theft. \nAuctioneer Notes: This is just a short list of featured items we will be selling! There is something for everyone. \nMOTORCYCLE: 2007 Vespa LX 150 w/746 original miles \nARCADE/PINBALL MACHINES: 1978 Flash pinball machine; Wheel of Fortune pinball machine w/keys & book; 1980s Multi-game arcade machine \nCOINS: Proof sets; Uncirculated pennies; Eisenhower dollars; V nickels; Seated Liberty dimes; Mercury dimes; Two cent pieces; Barber half dollars & more \nVINTAGE TOYS: Saturn 13 walking robot w/box; Truscale\, JD pull-type combine\, Tonka firetruck & other vintage farm toys; Jeep friction toy (NIB); Western ranch set (NIB); Cast-iron tractors/trains; Vintage jump rake; Original Daisy double-barrel pop gun; Vintage cap guns/holsters; 1/64 John Deere tractor collection; Large selection of John Deere memorabilia; Harley Davidson bears & toy motorcycles; 1/18 scale collectible cars; NAPA auto truck (NIB); Collectible car banks; Promo cars; Diecast NASCAR cars; Coke semis; Lionel trains/track \nSPORTS CARDS/MEMORABILIA: Minor league mini baseball bats; Hockey bobbleheads (2); Vintage Mickey Mantle bat; Autographed basketball photos (w/COAs); Large selection of baseball cards \nPOTTERY/GLASSWARE: Roseville Rozane Jardinire base; Roseville vases\, console bowls\, baskets & more; Weller vases; Hull vases/bowls; Carnival glass; Candlewick collection (punch bowl/glasses\, long stem glasses\, water pitchers & more); Depression glass; Fenton moonstone; Watt Pottery \nCOLLECTIBLES: Old comic books; Vintage lighted beer signs (Miller\, Michelob Wall\, Old Style clock); Pocket knife collection; Gemstones; Sterling & gold jewelry; Mason/Shriner jewelry; Shriner bobbleheads & decanters; Laughing Buddha coin bank; Lighters; Vintage ashtrays; 1940s silver Coca-Cola glasses; Wood plane; Unique birdcage; Brass hanging lamp; African soapstone sculpture; Cast-iron spittoons (2); Timex watch display; Small display case; Old quilts (Nice); Regulator clock; Vintage hats; Old oak telephone; Hurricane lamp; MCM flower lamp; Globe; Red Wing beater jar; Hamms beer ashtray; Clay Central/Everly annuals (1970s–80s); Various crocks; Willow Tree figures; Remington ammo box; Beatles 65 album; Toby mugs; Elephant collection; Raggedy Ann collections; Crochet/knitting items (lots of yarn) \nOUTDOOR ITEMS/TOOLS: New AC Delco cherry picker on wheels; Two large rolls of artificial grass; Wheelbarrow; Pipe clamps; Assortment of hand tools; Chopsaw; Socket sets; Chisel grinders; Fishing equipment; Pitchforks; Yard/garden tools \nANTIQUE & MODERN FURNITURE: MCM dresser & chest of drawers; 1950s-style table w/red chairs; Oak drop-front desk; Oak commode; Dressers; Oak hutch w/lighted glass shelf; Marble top dresser; Queen size beds (2); Six-drawer dresser; Cedar chest; Child’s table/chairs; Oak rocking chairs; Unique mirrors; Modern barstool sets; Couch \nHOUSEHOLD: Farberware deep fryer (NIB); Boat seat; Corningware; Snow tubes (NIB); Quality general & holiday decor; Vase filler (stone\, glass gems); Vases; Case of floating candle vases; Silverware; Knives; Glasses; Small appliances (blenders\, Keurig & more); Stainless bowls; Tupperware; Pots/pans; Sony flatscreen TV; Shelves; Wheelchairs (2); Dorm fridge; Exercise bike; Vacuum cleaners (Rainbow & Kirby); Hall tree; Sharp sound bar w/wireless subwoofer; Wii gaming system; Rag rugs; New carpet (14×23 & 11×18); Laundry sink; Orange metal folding chairs
URL:https://danwendelauctions.com/auction/2007-vespa-motorcycle-arcade-pinball-machines-quality-decor-coins-unique-collectibles-pottery-furniture-tools-more/
LOCATION:Rembrandt Gym Auction House\, 217 S 1st Ave\, Rembrandt\, IA\, 50576\, United States
CATEGORIES:Auctions
ORGANIZER;CN="Dan Wendel Land & Auction%2C LLC":MAILTO:danwendel78@icloud.com
END:VEVENT
END:VCALENDAR