BEGIN:VCALENDAR
VERSION:2.0
PRODID:-//DAN WENDEL AUCTIONS - ECPv6.15.20//NONSGML v1.0//EN
CALSCALE:GREGORIAN
METHOD:PUBLISH
X-ORIGINAL-URL:https://danwendelauctions.com
X-WR-CALDESC:Events for DAN WENDEL AUCTIONS
REFRESH-INTERVAL;VALUE=DURATION:PT1H
X-Robots-Tag:noindex
X-PUBLISHED-TTL:PT1H
BEGIN:VTIMEZONE
TZID:UTC
BEGIN:STANDARD
TZOFFSETFROM:+0000
TZOFFSETTO:+0000
TZNAME:UTC
DTSTART:20240101T000000
END:STANDARD
END:VTIMEZONE
BEGIN:VEVENT
DTSTART;TZID=UTC:20250914T103000
DTEND;TZID=UTC:20250914T183000
DTSTAMP:20260424T125220
CREATED:20250905T211516Z
LAST-MODIFIED:20250905T211936Z
UID:820-1757845800-1757874600@danwendelauctions.com
SUMMARY:COCA-COLA PORCELAIN SIGNS • SODA FOUNTAIN COLLECTIBLES • OLD APOTHECARY CABINET • RARE VINTAGE TOYS • STONEWARE • COPPER CAULDRON • SERAPHIM ANGEL/WILDLIFE FIGURINES • ARMON MARSEILLE DOLLS & MUCH MORE
DESCRIPTION:COCA-COLA PORCELAIN SIGNS\, SODA FOUNTAIN COLLECTIBLES\, OLD APOTHECARY CABINET\, RARE VINTAGE TOYS\, STONEWARE\, COPPER CAULDRON\, SERAPHIM ANGEL/WILDLIFE FIGURINES\, ARMON MARSEILLE DOLLS & MUCH MORE!\nSUNDAY\, SEPTEMBER 14th\, 2025\nHISTORIC REMBRANDT GYM in Rembrandt\, IA\n10AM – Wildlife/Seraphim Angel Figurines\n10:30AM – Center Ring\nOPEN HOUSE: THURSDAY\, SEPTEMBER 11TH\, 2025 — 2-5PM\nSale located at Historic Rembrandt Gym Auction House\, Rembrandt\, IA\n“The Only Game In Town”\nFOR PHOTOS & MORE\, CLICK *HERE*\nAuctioneers: Dan Wendel Land & Auction LLC\, 712-661-9724 \nTerms: Cash\, Good check\, or Credit Card Payment (3.5% convenience fee).\nDriver’s License ID required to obtain bidding number. Not responsible for accidents or theft. \nSTONEWARE: Spongeware pitchers/bowls; Colored bowls; Cookie jars; Red Wing pieces (Stag water cooler\, 2-4 gallon crocks\, butter churns); 3-gallon Western; Stoneware jar selection; Everly advertising beater jar; Blue refrigerator jar w/lid; \nGLASSWARE: Uranium glass; Green Jadeite bowls; Pyrex (Hand painted\, colored); Fiestaware; Hull; McCoy; Fire King; Crystal; Colored glass/pitchers; Fenton; and more; \nANTIQUES: Table top oak display case; Large copper cauldron; Copper/brass light fixtures (unique); Cast-iron skillets (some Griswold); Large carpenter’s box; Brass/marble side table; Wicker birdcage stand; Vintage floral suitcase; Old coolers; Small 1800s buggies; Coca-Cola porcelain sign; Stained glass window; Spool Cotton wooden box; Unique vanity stand; 1800s tole coal scuttle; Large copper chandelier; General store grocery bag dispenser; Iron base globe; Birdcages; Horse & bear pull toys; Cast-iron mantle clock; Oak classroom map display; Boy Scout & Girl Scout collections (Uniforms\, canteens\, books\, dolls & more); \nCOLLECTIBLES: MCM lamps; Cast-iron grates; Letter opener collection; Driftwood; Fishing creels; Local advertising; A&W Root Beer items; Bubble glass picture; Stereoview w/cards; Glass candy canisters; Milk bottle collection; Vintage metal toy tops; Jack in the Box collection; Metal lunchboxes (Get Smart\, Sesame Street); RR lunch pail; Fordson toolbox; Coffee grinders; Juggling pins; Old Storm Lake/Sioux Rapids yearbooks; Metal cake cabinet; Apple peelers; Cookie cutters; Oil cans; Graniteware; Cream can; Wash tubs; Vintage clothing; 1970s Sports Illustrated/Sporting News collection; Kansas Jayhawks/other college team programs; Leaded glass window; Telephones; Doll houses (wooden\, metal); Collectible dolls (Armon Marseille & more); Seashells/nautical items; Angel collection; Wildlife/Bird figurine collection (w/boxes); \nVINTAGE TOYS: Vintage Structo Vista Dome horse van (NIB\, never opened); Tonka hydraulic trucks; Structo ready mix truck; G.I. Joe dolls; Grandma Doll (w/box); Magic Lantern w/wooden case; Magic Lantern glass slides; Early IH pedal tractor; Fire truck pedal car; 1990s Hot Wheels; Train set & Race car set w/track; Indian Craft Boy Scout war bonnet; Marx shooting gallery; Old Barbie dolls; Other collectible dolls; Firestone wagon; \nANTIQUE/MODERN FURNITURE: Hot Point enamel stove; Roll top desk; Unique cabinets; Wicker settee set; Cast iron stove; Trunks; Early 1900s rockers; Porcelain top table; 3-stack oak apothecary cabinet; 50s chrome kitchen table; MCM bedroom set; 7-pc rustic living room set; La-Z-Boy recliners; Dressers; Bunkbed; Bedroom sets; \nHOUSEHOLD: Newer Kirby vacuum; Vacuum sealer; Tupperware; Cookware; Bissell carpet cleaner; Fondue pots; Silverware; Household decor; Steak plates; \nTOOLS/OUTDOOR: Drill presses; Remline tool cabinet on wheels; Craftsman tool cabinet; Chainsaw; Extension cords; Battery chargers; Air pigs; Air compressor; Radial arm saw; Sander on stand; 20 ft extension ladder; Yard/garden tools; Wheelbarrow; Push mowers w/baggers (Snapper\, Toro\, Craftsman); Shepherd hooks; Pots/planters; Yard decor (Wildlife statues\, birdbaths\, stepping stones\, metal\, concrete).
URL:https://danwendelauctions.com/auction/820/
LOCATION:Rembrandt Gym Auction House\, 217 S 1st Ave\, Rembrandt\, IA\, 50576\, United States
CATEGORIES:Auctions
ORGANIZER;CN="Dan Wendel Land & Auction%2C LLC":MAILTO:danwendel78@icloud.com
END:VEVENT
END:VCALENDAR