BEGIN:VCALENDAR
VERSION:2.0
PRODID:-//DAN WENDEL AUCTIONS - ECPv6.15.20//NONSGML v1.0//EN
CALSCALE:GREGORIAN
METHOD:PUBLISH
X-WR-CALNAME:DAN WENDEL AUCTIONS
X-ORIGINAL-URL:https://danwendelauctions.com
X-WR-CALDESC:Events for DAN WENDEL AUCTIONS
REFRESH-INTERVAL;VALUE=DURATION:PT1H
X-Robots-Tag:noindex
X-PUBLISHED-TTL:PT1H
BEGIN:VTIMEZONE
TZID:UTC
BEGIN:STANDARD
TZOFFSETFROM:+0000
TZOFFSETTO:+0000
TZNAME:UTC
DTSTART:20230101T000000
END:STANDARD
END:VTIMEZONE
BEGIN:VEVENT
DTSTART;TZID=UTC:20240630T103000
DTEND;TZID=UTC:20240630T183000
DTSTAMP:20260426T013146
CREATED:20240619T213314Z
LAST-MODIFIED:20240619T213314Z
UID:749-1719743400-1719772200@danwendelauctions.com
SUMMARY:ANTIQUES • COLLECTIBLES • COMIC BOOKS • TOYS • SPORTS CARDS • TOOLS • LAWN MOWERS • APPLIANCES & MORE
DESCRIPTION:ANTIQUES COLLECTIBLES COMIC BOOKS TOYS SPORTS CARDS TOOLS LAWN MOWERS APPLIANCES & MORE!\nLIVE AUCTION\nSunday\, June 30\, 2024\n10:30 a.m. (Center Ring to follow)\n(Open House Friday\, June 28 from 2-5 p.m. SHARP!)\nLocated at the Old Rembrandt Gym Auction House\, Rembrandt\, IA\n“The Only Game In Town”\nFOR PHOTOS & MORE\, CLICK *HERE*\nFOR: MARILYN ARGOTSINGER ESTATE\, DENISON IOWA \nAuctioneer: Dan Wendel Land & Auction LLC\, 712-661-9724 \nTerms: Cash\, good check\, and credit cards with a 3.5% convenience fee. Drivers license ID required to obtain bidding number. Not responsible for accidents or theft. \nAUCTIONEERS NOTE: This is a partial list. We continue to unpack more unique items so make plans to attend this amazing sale! \nCOLLECTIBLES: Hundreds of football & baseball cards from 1975-82; Donald Duck lamp; Little Red Riding Hood cookie jar; Donald Duck Teeter Totter; Large Hull Vase; Marbles; Vintage cameras; Vintage life preserver; Old Christmas items/ornaments; Old military uniforms/helmet/gas mask (including WW I); Old Mickey Mouse puzzle; Shirley Temple collection; Lone Ranger paint book; Vintage license plates; 1950s yellow formica table; Asst figurines (Precious Moments\, Boyds Bears\, Yesterdays Child\, Wildlife); Purses; 8 track tapes; Lefton snack set w/teapot; \nPRIMITIVES/ANTIQUES: Sterling silver silverware set; Pyrex; Hull Bowknot; Roseville pieces; Shoulder jugs; Player piano rolls; Red & blue glass pieces; Blue Fenton glass; Postcards/advertising cards; Early 1900s scrapbooks\, Valentines cards & postcard albums; Very old quilt & material; Old door knobs; Old silverware & sterling pieces; Rug beaters; Spice cabinet; Etched glass cocktail set; Asst old books; Cabinet photos; Wicker buggy; Beautiful vintage highchair; Metal grates; Nail keg; Vintage Metal Scenic Christmas Collar; Cookie cutters; Dress form; \nBREWERY/MEMORABILIA: Very rare Kings Head stained glass billiard light; Vintage Budweiser bar glass lampshades; Miller patio umbrella; Monogram cigar spittoon top; Miller Lite telephone; Budweiser gumball machine; \nVINTAGE TOYS & COMIC BOOKS: Rare action figures (Mego\, Batman\, Robin\, Superman\, GI Joe & more); Vintage Star Wars figures; Atari video system w/original games; PlayStation games; Hot Wheels Action City case\, cars); Matchbox cars; Tootsie Toys; Western Flyer pedal tractor; Vintage pedal car; Asst comic books (Disney\, Star Wars\, Incredible Hulk & more); Wolverine Metal kitchen set; Gateway sewing machine; Erector set; Several Tonka metal toys (tractors\, firetruck\, trucks\, road graders\, dump trucks); Farm toys (John Deere wagons\, (2) John Deere 4020 tractors\, International 856\, Ford 8000\, IH grain drill\, New Holland combine & windrow\, & more); Several metal lunchboxes; Vintage NY Giants football helmet; Large collection of Barbie items (cars\, motorhome\, carrying cases\, clothing & more); Lite Brite; Remote control cars/trucks; Dr. Seuss books\, Bobsey Twins book set & more; \nDOLLS: Darling Debbie (NIB); Asst vintage dolls; Skookum Indian doll (NIB); Early 1900s porcelain & China dolls; Modern porcelain dolls; Cabbage Patch dolls; Asst Barbie dolls; large assortment of Barbie cars\, accessories\, clothing & more; \nHOUSEHOLD: Laundry sink; Pet carrier; Cosco paint ladder; Canning jars; \nTOOLS: Skil saw; Power miter; Table saw; Craftsman 12 band saw; Air compressor; Wood lathe; Grizzly dust collector; Large tool cabinet; Asst hand tools; Wrenches; Saws; Chisels; Pulley pullers; Bolt cutters; Nail pullers; Chain hoist; Vises; Craftsman drill press; Dremel; Jigsaw; Router on stand; Bench grinder; \nFURNITURE & APPLIANCES: Curio Cabinet; Knotty pine 4-door dresser; Mission oak chairs; Waterfall front cedar chest; Coffee table set; Oak tables (2); Flatscreen TV; Several dressers; Jewelry armoire; Lamps; Wooden file cabinet; Painted cabinets; Potato bin; Pioneer stereo system w/speakers; Kenmore chest freezer; Frigidaire black refrigerator w/top freezer; Pro-form treadmill; Vintage dresser w/ wishbone mirror; Old console radio; Light oak dresser; Mid Century clock; Spoon carved commode; Bifold doors; \nOUTDOOR ITEMS: Cub Cadet SC 100 mower; Yard Man 625 mower; Space heater; Power washer; Ariens front tine tiller; Storage shelving; Yard/garden tools; Parking rack; Assorted/implement tires; Rolls of garden wire; Rabbit hutch (NIB); Turkey fryers; Lawn aerator; Pitchfork; Sand shovels; Stepladders; Propane tanks; Rope; Charcoal grill; Walk behind plow; Weed trimmer; Bike; Coleman lanterns.
URL:https://danwendelauctions.com/auction/antiques-collectibles-comic-books-toys-sports-cards-tools-lawn-mowers-appliances-more/
LOCATION:Rembrandt Gym Auction House\, 217 S 1st Ave\, Rembrandt\, IA\, 50576\, United States
CATEGORIES:Auctions
ORGANIZER;CN="Dan Wendel Land & Auction%2C LLC":MAILTO:danwendel78@icloud.com
END:VEVENT
END:VCALENDAR