BEGIN:VCALENDAR
VERSION:2.0
PRODID:-//DAN WENDEL AUCTIONS - ECPv6.15.20//NONSGML v1.0//EN
CALSCALE:GREGORIAN
METHOD:PUBLISH
X-ORIGINAL-URL:https://danwendelauctions.com
X-WR-CALDESC:Events for DAN WENDEL AUCTIONS
REFRESH-INTERVAL;VALUE=DURATION:PT1H
X-Robots-Tag:noindex
X-PUBLISHED-TTL:PT1H
BEGIN:VTIMEZONE
TZID:UTC
BEGIN:STANDARD
TZOFFSETFROM:+0000
TZOFFSETTO:+0000
TZNAME:UTC
DTSTART:20250101T000000
END:STANDARD
END:VTIMEZONE
BEGIN:VEVENT
DTSTART;TZID=UTC:20260125T100000
DTEND;TZID=UTC:20260125T183000
DTSTAMP:20260423T210640
CREATED:20260117T211545Z
LAST-MODIFIED:20260117T211545Z
UID:828-1769335200-1769365800@danwendelauctions.com
SUMMARY:RARE JB DAKIN STONEWARE & CROCKS • CRANBERRY FENTON GLASS • GREYHOUND LAMPS & FIGURES • WEATHERVANES • LOCAL ADVERTISING ITEMS • HOT WHEELS & PLAYBOY COLLECTIONS • COLLECTIBLES & MUCH MORE
DESCRIPTION:RARE JB DAKIN CROCKS & STONEWARE COLLECTION\, HUGE SELECTION OF CRANBERRY FENTON\, UNIQUE GREYHOUND LAMPS & FIGURES\, WEATHERVANES GALORE\, TONS OF LOCAL ADVERTISING ITEMS & MUCH MORE!\nSUNDAY\, JANUARY 25th\, 2026\nHISTORIC REMBRANDT GYM in Rembrandt\, IA\n10:00AM – Hot Wheels & Playboy Collections\nCenter Ring to follow\nOPEN HOUSE: THURSDAY\, JANUARY 22nd\, 2026 — 2-5PM\nSale located at Historic Rembrandt Gym Auction House\, Rembrandt\, IA\n“The Only Game In Town”\nFOR PHOTOS & MORE\, CLICK *HERE*\nAuctioneer: Dan Wendel Land & Auction\, LLC — 712-661-9724 \nTerms: Cash\, good check\, or credit cards with 3.5% convenience fee. Driver’s license/ID required to obtain bidding number. Not responsible for accidents or theft. All sales final. \nNote: THIS IS ONLY A PARTIAL LIST AS MORE ITEMS ARE BEING ADDED DAILY. \nSTONEWARE: Large collection including: 20 gal Plymouth rooster crock; 6 gal Western; 10 gal Red Wing crock; 20 lb butter crock; Rare JB Dakin crocks (Small & 20 lb butter crocks & shoulder jug — Schaller\, IA); (3) butter churns; Blue banded butter crocks; Hoops Bros.\, Galva\, IA refrigerator crocks; Red Wing beater jars; 2 gal Fort Dodge Bristol crock; Several smaller crocks/jars; \nGLASSWARE / POTTERY: Roseville; Rookwood; Hull (Bow Knot); Weller; Fenton collection (Mary Gregory\, Log Cabin\, Cranberry\, Blue\, Purple\, Opalescent\, Coin Dot\, Hobnail & more); Uranium glass; Blue onion; Carnival glass; Hand painted porcelain collection (Nippon\, Barbaria\, RS Prussia\, Germany); Green Jadeite mixing bowl; Hummel figurines; Frankoma; Longaberger; MCM red glass; and more; \nCOLLECTIBLES: Playboy collection (1960s–2000s); Weathervane collection; Cast iron bull windmill weight; Winchester collectibles/boxes; Vintage fishing lures; Old ammo boxes; Unique oak padlock cabinet; Greyhound collection (Coaster Wagon — restored\, TV lamps\, figures\, statue); Chicago Tools metal sign; Café menu sign; DeKalb thermometer; Copper kettle; Enamelware; Unique hurricane lamps; Huge Schaller & Galva (IA) advertising collection; Harmony acoustic guitar; Ludwig snare drum; Michael Jackson record player; Large Elvis Presley collection (Cape & belt\, 45s); Wooden boxes; MCM glassware; 1950s malt mixer; Ceramic Christmas trees; Coca-Cola clock & tray; Chalkware (string holders\, décor pieces\, Daniel Boone figurine); Collectible ashtrays; Roy Rogers Heartland box; Antique Christmas ornaments; Women’s head vases; Collectible figurines; Siamese cat TV lamp; Gooch’s Best thermometer; Pepsi / Royal Crown metal carriers; Skeleton keys; Frasier autographed script & photo; 1950s Marilyn Monroe calendar (nude); Vintage Butler w/tray; Records; Dr. Seuss books; Nutcracker collection; Large Planters Peanut collection (jars & more); Wood butter churn; (2) Daisy butter churns; Large assortment of collectible pictures/prints (Terry Redlin & more); Thompson Hardware Keen Kutter metal sign; Vintage band uniforms; Phillips 66 Power Yacht toy w/box; Many vintage tractor & implement catalogs/manuals; Old movie projector; Hot Wheels; Collectible banks; Siegfried & Roy stuffed white tigers; Vintage clothing; Collectible dolls; Big A Muer metal sign; Tramp art pedestal; \nHOUSEHOLD / FURNITURE: Bosch 500 SS dishwasher; 30-qt pressure cooker; Mic stands; Kenwood speakers; Solar electric fencer (NIB); Juicer (NIB); Window AC; Outdoor planters; Large propane tanks; Shadow floor buffer; Hand & garden tools; Glider rockers; MCM coffee & sofa tables; Ice cream chairs; Metal shelving; New windows (some Andersen); Solid wooden door (New); Cedar chest; Loveseat & sofa; Bistro-style table & chairs; Stainless steel work table; Treadle sewing machine; Wooden chairs & dresser; TV; Tables; Beds; Computer speakers (NIB); Xbox 360 (NIB); Stepback cupboard; Metal easel; \nTOOLS / OUTDOOR ITEMS: Honda 2000 portable generator; Radisson 14-ft square stern canoe; Sawhorses; Wheelbarrows; Hand saws; Tools; Sheetrock stilts; and MUCH MORE!
URL:https://danwendelauctions.com/auction/rare-jb-dakin-stoneware-crocks-cranberry-fenton-glass-greyhound-lamps-figures-weathervanes-local-advertising-items-hot-wheels-playboy-collection/
LOCATION:Rembrandt Gym Auction House\, 217 S 1st Ave\, Rembrandt\, IA\, 50576\, United States
CATEGORIES:Auctions
ORGANIZER;CN="Dan Wendel Land & Auction%2C LLC":MAILTO:danwendel78@icloud.com
END:VEVENT
END:VCALENDAR