BEGIN:VCALENDAR
VERSION:2.0
PRODID:-//DAN WENDEL AUCTIONS - ECPv6.15.20//NONSGML v1.0//EN
CALSCALE:GREGORIAN
METHOD:PUBLISH
X-WR-CALNAME:DAN WENDEL AUCTIONS
X-ORIGINAL-URL:https://danwendelauctions.com
X-WR-CALDESC:Events for DAN WENDEL AUCTIONS
REFRESH-INTERVAL;VALUE=DURATION:PT1H
X-Robots-Tag:noindex
X-PUBLISHED-TTL:PT1H
BEGIN:VTIMEZONE
TZID:America/Chicago
BEGIN:DAYLIGHT
TZOFFSETFROM:-0600
TZOFFSETTO:-0500
TZNAME:CDT
DTSTART:20250309T080000
END:DAYLIGHT
BEGIN:STANDARD
TZOFFSETFROM:-0500
TZOFFSETTO:-0600
TZNAME:CST
DTSTART:20251102T070000
END:STANDARD
BEGIN:DAYLIGHT
TZOFFSETFROM:-0600
TZOFFSETTO:-0500
TZNAME:CDT
DTSTART:20260308T080000
END:DAYLIGHT
BEGIN:STANDARD
TZOFFSETFROM:-0500
TZOFFSETTO:-0600
TZNAME:CST
DTSTART:20261101T070000
END:STANDARD
BEGIN:DAYLIGHT
TZOFFSETFROM:-0600
TZOFFSETTO:-0500
TZNAME:CDT
DTSTART:20270314T080000
END:DAYLIGHT
BEGIN:STANDARD
TZOFFSETFROM:-0500
TZOFFSETTO:-0600
TZNAME:CST
DTSTART:20271107T070000
END:STANDARD
END:VTIMEZONE
BEGIN:VEVENT
DTSTART;TZID=America/Chicago:20260419T100000
DTEND;TZID=America/Chicago:20260419T170000
DTSTAMP:20260423T224932
CREATED:20260409T213113Z
LAST-MODIFIED:20260417T033408Z
UID:840-1776592800-1776618000@danwendelauctions.com
SUMMARY:UNBELIEVABLY RARE & UNIQUE COLLECTIONS AUCTION • COINS\, HIGH END JEWELRY\, RARE GUNS\, SWORDS\, HISTORICAL ARTIFACTS\, VINTAGE MUSICAL INSTRUMENTS\, STONEWARE\, VINYL\, TOYS & MORE
DESCRIPTION:UNBELIEVABLY RARE & UNIQUE COLLECTIONS! COINS\, HIGH END JEWELRY\, RARE GUNS\, SWORDS\, HISTORICAL ARTIFACTS\, VINTAGE MUSICAL INSTRUMENTS\, STONEWARE COLLECTIONS\, VINTAGE VINYL\, OLD TOYS\, ROY ROGERS & SHIRLEY TEMPLE COLLECTIONS\, URANIUM GLASS\, ANTIQUE FURNITURE & MORE!\nSUNDAY\, APRIL 19th\, 2026\n10:00AM – Stoneware\nCenter Ring to follow\nOPEN HOUSE: THURSDAY\, APRIL 16th\, 2026 — 2-5PM\nSale located at Historic Rembrandt Gym Auction House\, Rembrandt\, IA\n“The Only Game In Town”\nAuctioneers: Dan Wendel Land & Auction LLC\, 712-661-9724 \nTerms: Cash\, Good check\, or Credit Card Payment (3.5% convenience fee).\nDriver’s License ID required to obtain bidding number. Not responsible for accidents or theft. All sales final. \nCOIN CATALOG April 19\, 2026 \nGUN CATALOG APRIL 19 2026 \nJEWELRY CATALOG APRIL 19 2026 \nSTONEWARE/POTTERY: Red Wing bean pots w/local advertising; Fort Dodge crocks (2-3 gal & 5 gal)\, 3-gal butter churn\, 3-gal beehive jug; Macomb 5-gal crock; Plymouth 5-gal butter churn; Rosedale butter jars; Stoneware pitchers; Shoulder jugs; Red Wing 2-gal crock; Sioux City advertising 1-gal crock; 2-gal Western crock; Butter crocks & beehive jugs; Brush McCoy; Van Briggle; Weller; MCM Royal Hager; Rare Roseville; Stangle; Several other rare pottery pieces; \nCOINS: Silver coins (Silver Eagles); 1936 proof set; Eisenhower dollars (1000); Uncirculated $50 penny bags (1974 & 1977); $25 US Mint quarter bags; $25 Westward Journey nickel series mint bags; (2) $100 Kennedy half dollar bags; Uncirculated Mercury dimes\, half cents & mint errors; Steel & vintage pennies; Buffalo & Jefferson nickels; Barber & Mercury dimes; Quarters; Rare paper money; Foreign coins; Large collectible coin lots; \nJEWELRY: High-end jewelry (diamond rings w/appraisals); Black Hills gold (belt buckle\, necklaces\, pen\, cufflinks\, earrings); 14 kt gold ruby & diamond ring; Natural yellow diamond ring; 18 kt gold Burmese ruby; 14 kt gold diamond rings; Men’s gold rings; Cartier sterling ring w/box; Tiffany sterling necklace & bracelets w/boxes; Turquoise & sterling bracelets; Navajo squash blossom; Amber & gemstone strands; Navajo beadwork; Fetish necklace; Sterling silver pieces; Pearl necklaces; Watches (Omega Deville\, CYMA\, Black Hills gold); Costume jewelry; Broach/pin collections; \nGUNS: H&R Model 960 .32 cal blank pistol; Lorcin Model L380 pistols (2); Hi-Point CF380; RSA Ent Super Comanche .45 Colt/.410; Beretta 92X 9mm w/case; Sig Sauer P229 .40 S&W; Desert Eagle Mark XIX .50 AE (NIB); Walther PPK .380 WWII bringback (nickel\, w/box); Taurus Millennium G2 9mm; Boys flintlock long gun (1800s); MGC Thompson Model (Tokyo); Savage Model 110 7mm w/scope; LC Smith side-by-side shotgun; NEF Pardner 12 ga; Remington Rolling Block .22; Rossi Rio Grande .410 (NIB); Dale Evans & Roy Rogers Daisy BB gun (NIB); Assorted BB guns; \nSWORDS/KNIVES: One of the largest knife & sword collections offered! Civil War Model 1840 officer’s sword; Samurai\, Confederate\, European\, Knights of Columbus (ivory handles)\, military swords; Large flats of hunting & novelty knives; Advertising pocket knife collection; \nHISTORICAL ARTIFACTS: Indian arrowheads; Bird point collection; Winnebago basket; Beaded pipe bag; Ancient axes; Discoidal stones; Hammer/axe stones; Buffalo box; Navajo & Skookum dolls; Native pottery; Beaded war shirt; Indian artifacts & handmade jewelry; \nMUSICAL INSTRUMENTS/RADIOS: 1950s Crescent electric; 1961 Gibson Melody Maker; 1960s electric guitars; Teisco guitar; Mandolin; Arthur Godfrey ukulele; Harmony electric guitar; Yamaha monitors; Mixing boards; Tuba; Trumpets; Military snare; Pearl drum set; Accordions (5); Speakers; \nGLASSWARE: Fenton (cranberry\, blue hobnail\, baskets\, vases); Cobalt sets; Carnival glass; Cut glass; Crystal; Green Jadite; Uranium glass; Coors glasses; Depression glass; Other collectible glassware; \nCOLLECTIBLES: Roy Rogers collection; Shirley Temple dolls & items; Vintage vinyl; Cameras; Typewriters (Remington\, Oliver); Old Bibles; Fountain pens; Lone Ranger bank; Sterling candleholders; Edison photos w/horns; Pocket watches; Bone handle silverware; Drive-in speaker; Cast-iron toys; Salesman sample farm toys; Ink wells; Trunks; Autographed Elvis/Sinatra photo; Paperweights; Marbles; National cash register; Comet slot machine; Space age radio; Mantle clocks; Vintage radios; Limoges table; English campaign chest; 1889 signed book; Oak machinist chest; Comic books; Gumball machine; Humidor; Piano bench; Hawaiian grass skirt (framed); Stamps; First Day Covers; Silver box; Dan Post boots (NIB); School bell; Egg crate; Water jugs; Stained glass lamps; Tiffany warming tray & carving set; Brass statues; Silver bride basket; Parade saddle; Quilts; Persian rugs; Tapestries; Taxidermy; \nTOYS: Wyandotte truck; Buddy L Coca-Cola truck; Jeeps; Tootsie cars; Train sets; American Flyer; Promo cars; Robert the Robot; Tin toys; Charlie the Chimp; Fort Cheyenne; Toto toy; Tonka equipment; IH backhoe; Easy Bake oven; Microscopes; Vintage games; \nPRIMITIVES: Griswold & cast-iron skillets; Oak telephones; Graniteware; Coffee pots; Wooden spice racks; Railroad & barn lanterns; Enamelware; Toasters; Irons; Keen Kutter grinder; Cast-iron pots; \nHOUSEHOLD: KitchenAid mixer; Food processor; Small appliances; Mixing bowls; VisionWare; Sewing machines (Viking & others); \nANTIQUE/MODERN FURNITURE: Wooden dental cabinet; Asian marble stands; Victrola; Marble top cabinet; Plant stands; Oak drop-front desk; Oak chairs; Wicker rocker; Victorian settee; Waterfall bedroom set; Cedar chest; Music cabinet; Oak step-back cupboard; Walnut marble dresser w/mirror; Metal broom closet; MCM bookshelves; Mahogany hutch; Umbrella stand w/hat rack; & MORE! \n\n\n\n		\n				\n						\n			\n								\n			\n		\n							\n			\n				\n						\n			\n								\n			\n		\n							\n			\n				\n						\n			\n								\n			\n		\n							\n			\n				\n						\n			\n								\n			\n		\n							\n			\n				\n						\n			\n								\n			\n		\n							\n			\n				\n						\n			\n								\n			\n		\n							\n			\n				\n						\n			\n								\n			\n		\n							\n			\n				\n						\n			\n								\n			\n		\n							\n			\n				\n						\n			\n								\n			\n		\n							\n			\n				\n						\n			\n								\n			\n		\n							\n			\n				\n						\n			\n								\n			\n		\n							\n			\n				\n						\n			\n								\n			\n		\n							\n			\n				\n						\n			\n								\n			\n		\n							\n			\n				\n						\n			\n								\n			\n		\n							\n			\n				\n						\n			\n								\n			\n		\n							\n			\n				\n						\n			\n								\n			\n		\n							\n			\n				\n						\n			\n								\n			\n		\n							\n			\n				\n						\n			\n								\n			\n		\n							\n			\n				\n						\n			\n								\n			\n		\n							\n			\n				\n						\n			\n								\n			\n		\n							\n			\n				\n						\n			\n								\n			\n		\n							\n			\n				\n						\n			\n								\n			\n		\n							\n			\n				\n						\n			\n								\n			\n		\n							\n			\n				\n						\n			\n								\n			\n		\n							\n			\n	\n	\n\n	\n		\n		1\n2\n...\n16\n►
URL:https://danwendelauctions.com/auction/unbelievably-rare-unique-collections-auction-coins-high-end-jewelry-rare-guns-swords-historical-artifacts-vintage-musical-instruments-stoneware-vinyl-toys-more/
LOCATION:Rembrandt Gym Auction House\, 217 S 1st Ave\, Rembrandt\, IA\, 50576\, United States
CATEGORIES:Auctions
ORGANIZER;CN="Dan Wendel Land & Auction%2C LLC":MAILTO:danwendel78@icloud.com
END:VEVENT
END:VCALENDAR