BEGIN:VCALENDAR
VERSION:2.0
PRODID:-//DAN WENDEL AUCTIONS - ECPv6.15.20//NONSGML v1.0//EN
CALSCALE:GREGORIAN
METHOD:PUBLISH
X-ORIGINAL-URL:https://danwendelauctions.com
X-WR-CALDESC:Events for DAN WENDEL AUCTIONS
REFRESH-INTERVAL;VALUE=DURATION:PT1H
X-Robots-Tag:noindex
X-PUBLISHED-TTL:PT1H
BEGIN:VTIMEZONE
TZID:America/Chicago
BEGIN:DAYLIGHT
TZOFFSETFROM:-0600
TZOFFSETTO:-0500
TZNAME:CDT
DTSTART:20250309T080000
END:DAYLIGHT
BEGIN:STANDARD
TZOFFSETFROM:-0500
TZOFFSETTO:-0600
TZNAME:CST
DTSTART:20251102T070000
END:STANDARD
BEGIN:DAYLIGHT
TZOFFSETFROM:-0600
TZOFFSETTO:-0500
TZNAME:CDT
DTSTART:20260308T080000
END:DAYLIGHT
BEGIN:STANDARD
TZOFFSETFROM:-0500
TZOFFSETTO:-0600
TZNAME:CST
DTSTART:20261101T070000
END:STANDARD
BEGIN:DAYLIGHT
TZOFFSETFROM:-0600
TZOFFSETTO:-0500
TZNAME:CDT
DTSTART:20270314T080000
END:DAYLIGHT
BEGIN:STANDARD
TZOFFSETFROM:-0500
TZOFFSETTO:-0600
TZNAME:CST
DTSTART:20271107T070000
END:STANDARD
END:VTIMEZONE
BEGIN:VEVENT
DTSTART;TZID=America/Chicago:20260322T100000
DTEND;TZID=America/Chicago:20260322T173000
DTSTAMP:20260423T192402
CREATED:20260317T223746Z
LAST-MODIFIED:20260320T211909Z
UID:836-1774173600-1774200600@danwendelauctions.com
SUMMARY:POLARIS 4-WHEELER • HUGE COLLECTION OF METAL TOYS • COINS • BEER COLLECTIBLES & LIGHTS • FENTON • RED WING BEAN POTS • SPORTS CARDS • TOOLS • UNIQUE WESTERN PRINTS • & MUCH MORE
DESCRIPTION:POLARIS 4-WHEELER\, HUGE COLLECTION OF METAL TOYS\, COINS\, BEER COLLECTIBLES & LIGHTS\, FENTON\, RED WING BEAN POTS\, SPORTS CARDS\, TOOLS\, UNIQUE WESTERN PRINTS & MUCH MORE!\nSUNDAY\, MARCH 22\, 2026\n10:00AM – Metal Toys & Die Cast Banks\nCENTER RING TO FOLLOW\nOPEN HOUSE: THURSDAY\, MARCH 19TH\, 2026 — 2-5PM\nSale located at Old Rembrandt Gym Auction House\, Rembrandt\, IA\n“The Only Game In Town”\nFOR PHOTOS & MORE\, CLICK *HERE*\nAuctioneers: Dan Wendel Land & Auction LLC\, 712-661-9724 \nTerms: Cash\, Good check\, or Credit Card Payment (3.5% convenience fee).Driver’s License ID required to obtain bidding number. Not responsible for accidents or theft. \n4-WHEELER/BIKES: Polaris Sportsman 850 HO (AWD\, 782 miles); Vivi E-bikes (never used\, foldable); \nVINTAGE TOYS & BANKS: Huge collection of vintage metal toys; Asst farm toys; Collectible Ertl banks; Die cast airplanes; Nylint\, Tonka\, Structo & more; 1950s friction toys; Hot Wheels & Matchbox cars/cases; Firetrucks\, livestock haulers\, cranes\, dozers & cement trucks; G.I. Joe dolls; Silly Surfers (NIB); Cast-iron banks\, tractors & cars; Fisher-Price toys; Advertising banks; American Muscle & 1/18 scale cars; \nSPORTS CARDS: Large selection from the 1970s to present; \nCOINS: Franklin Mint silver/gold plated duck stamps; Mercury dimes; Kennedy half dollars; Buffalo nickels; Quarters; Proof sets; Wheat pennies & more; \nBEER COLLECTIBLES & LIGHTS: Old Style & Coors billiard lights; Budweiser Clydesdale lights & mantle clock; Schmidt lighted pheasant sign; Beer lights & mirrors (Coors\, Schlitz\, Budweiser\, Killian & more); Hamms & Busch trays; Schlitz & Budweiser wall sconces; \nCOLLECTIBLES: Mahogany tobacco wall console; John Deere collectibles (lights\, signs\, clocks); Vintage license plates; Ducks Unlimited badges; Civil War marbles; Silver fox fur coat; Arrowheads; 20+ Red Wing bean pots (local advertising); Western prints; Vintage postcards & photographs; Metal signs; Fishing reels; Bison print; Elvis collection; Cookie jars; Shoulder jugs; Lone Ranger lunchbox; Stereoview w/cards; 5-gallon Western crock; Pinbacks & watches; Cash register; Salt & pepper shaker collections; Ammo boxes; Big Little Books; Piano rolls; Harley Davidson gas tank light; Matchbook collection; Military uniforms; Raggedy Ann & Andy; Local advertising; Kewpie dolls; Corn sheller; Elvis standee; Silverware; Cedar hat rack; Oil paintings/prints; \nGLASSWARE/POTTERY: Fenton (baskets\, bowls\, pitchers\, vases); Pyrex (incl. colored nesting set); MCM red glassware; Roseville & Hull pottery; Hand-painted pieces; 1950s planters; Carnival glass; Watt pottery; Uranium glass; Pink depression; Milk glass; Crystal; \nHOUSEHOLD: Amana dryer; Magic Chef washer; Frigidaire stove & dishwasher; Maytag microwave; Swivel barstools; Outdoor heater; Tables; Mechanical bed; Computer desk; Bulk NOS items (flip flops\, flashlights\, switches\, socks\, sunglasses & more); \nOUTDOOR: 10×20 tent; Toro mower w/bagger; Park bench; Metal bench; 25-gallon sprayer; Extension cords; Grill; Firepit; Lawn chairs; Wheelbarrow; Squirrel cage fan; Kerosene heater; Pull-behind sprayer; Bicycles; Front tine tiller; Bike rack; Fishing seine; Reel mowers; Fertilizer spreader; Weed trimmers; Aerator; Thatcher; Yard roller; Shepherd hooks; Patio set; Bakers rack; Tricycle; Shop lights; \nTOOLS: Wooden tool organizer; Large wrenches; Sledgehammers; 3/4” Snap-On socket set; Punches; Chisels; Drill bits; Air tools; DeWalt grinder & Sawzall; Acetylene torch set; Large drills; Load binders; C-clamps; Ratchet straps; Air compressor; Super Glide 5th wheel hitch; Space heater; Lincoln LN-25 welder; Craftsman table saw; Power miter saw; Roller magnet; Hammers; Pulley pullers; Chains.
URL:https://danwendelauctions.com/auction/polaris-4-wheeler-huge-collection-of-metal-toys-coins-beer-collectibles-lights-fenton-red-wing-bean-pots-sports-cards-tools/
LOCATION:Rembrandt Gym Auction House\, 217 S 1st Ave\, Rembrandt\, IA\, 50576\, United States
CATEGORIES:Auctions
ORGANIZER;CN="Dan Wendel Land & Auction%2C LLC":MAILTO:danwendel78@icloud.com
END:VEVENT
END:VCALENDAR