BEGIN:VCALENDAR
VERSION:2.0
PRODID:-//DAN WENDEL AUCTIONS - ECPv6.15.20//NONSGML v1.0//EN
CALSCALE:GREGORIAN
METHOD:PUBLISH
X-ORIGINAL-URL:https://danwendelauctions.com
X-WR-CALDESC:Events for DAN WENDEL AUCTIONS
REFRESH-INTERVAL;VALUE=DURATION:PT1H
X-Robots-Tag:noindex
X-PUBLISHED-TTL:PT1H
BEGIN:VTIMEZONE
TZID:UTC
BEGIN:STANDARD
TZOFFSETFROM:+0000
TZOFFSETTO:+0000
TZNAME:UTC
DTSTART:20250101T000000
END:STANDARD
END:VTIMEZONE
BEGIN:VEVENT
DTSTART;TZID=UTC:20260222T100000
DTEND;TZID=UTC:20260222T173000
DTSTAMP:20260423T210645
CREATED:20260218T005828Z
LAST-MODIFIED:20260220T230354Z
UID:833-1771754400-1771781400@danwendelauctions.com
SUMMARY:RARE FORT DODGE CROCKS • AMERICAN INDIAN POTTERY • SOUTHWEST DECOR • TOY TRAINS • PLANTERS PEANUT COLLECTION • SCHALLER/GALVA ADVERTISING • VINTAGE QUILTS • WEATHERVANES • APPLIANCES & MORE
DESCRIPTION:RARE FORT DODGE CROCKS\, AMERICAN INDIAN POTTERY\, SOUTHWEST DECOR\, TOY TRAINS\, PLANTERS PEANUT COLLECTION\, SCHALLER/GALVA ADVERTISING\, VINTAGE QUILTS\, WEATHERVANES\, APPLIANCES & MORE!\nSUNDAY\, FEBRUARY 22\, 2026\n10AM – Train Collection\nCenter Ring to Follow\nOPEN HOUSE: THURSDAY\, FEBRUARY 19TH — 2-5PM\nSale located at Rembrandt Gym\, Rembrandt\, IA\n“The Only Game In Town”\nFOR PHOTOS & MORE\, CLICK *HERE*\nAuctioneer: Dan Wendel Land & Auction LLC\, 712-661-9724 \nTerms: Cash\, Good check\, or Credit Card Payment (3.5% convenience fee). Driver’s License ID required to obtain bidding number. Not responsible for accidents or theft. \nTRAIN COLLECTION: Large assortment of trains including Lionel\, Marx\, Union Pacific & HO Scale; Track; Engines & more; (2) John Deere train sets (NIB); Lionel HO American Freedom train (NIB); Kids Express HO (NIB); Caseys & Hy-Vee train sets (NIB); Lionel collector dolls; Union Pacific calendars; Old train books; Much more; \nPLANTERS PEANUT COLLECTION: Impressive collection including Vintage 10lb peanut tin; Planters Peanut store display jars; Tom’s Peanut jar; 1930s paint books/peanut books; Tins; Metal peanut dishes; Banks; Salt & Pepper shakers; Cups; Store displays; Metal sign; Cast-iron banks; Wooden checkers box; & more; \nSOUTHWEST/AMERICAN INDIAN ART & POTTERY: Large collection of American Indian handmade pottery (some signed) including Nemadji\, Acoma Pueblo & others; Southwest décor; Oil paintings; Hand-painted chief on slate; Wool table mats/decor; \nJEWELRY: Scrap gold; Sterling silver spoons; Sterling watch & rings; Nice selection of costume jewelry & watches; \nSTONEWARE: Unique selection of Fort Dodge stoneware & crocks including 8\, 10 & 20 gallon crocks; Plymouth 4 gallon butter churn; 3 & 5 gallon shoulder jugs; 4 gallon salt glaze crock; Very early crocks\, bowl & jardiniere; Laurens\, IA pitcher; Vintage sewer tile pottery figurines; \nCOLLECTIBLES: Several 1960s Matchbox toys (NIB); Weathervanes on stands; 1942 Alta pennant; Vintage luggage; Molson Beer metal sign; Vintage metal toys; Vintage quilts; G.I. Joe trunk w/accessories; Tobacco blankets; Vintage black & white aviation photos; Trico Wiper metal sign; Decker’s papier-mâché pig; MCM Gold Horse clock; Cast-iron banks; Ladies head vases; Schaller & Galva advertising including chain frame\, thermometers\, ashtrays & more; John Deere collectibles; Vintage cookie cutters; Billiards items; Bango Popcorn items including calendars\, bowling shirts\, thermometers\, playing cards & more; Phillips 66 & Mobile Oil cans; Griswold skillet; Vintage calendars & clothing; \nGLASSWARE/POTTERY: (13) Red Wing bean pots; Watt Pottery cookie jars including Dutch Tulip\, Autumn Leaf\, Starfire & Vilas & Co pitcher; Shawnee Chanticleer Rooster pitcher & Pied Piper teapot; Several pieces of Roseville pottery; Cranberry Fenton collection including Mary Gregory & other hand-painted pieces; Hull & Hanger pottery; Green Jadeite jewel basket; Roseville juvenile & baby plates; Blue Fenton satin glass collection; Custard glass; Green depression glass; \nAPPLIANCES: Estate refrigerator/freezer; Marathon 80 gallon water heater; Ecopure water softener (like new); Amana microwave; Frigidaire portable dishwasher; Frigidaire stove w/two ovens; Frigidaire stove hood; \nHOUSEHOLD/OUTDOOR: Small appliances; Coffee makers; Skillets\, pots & pans; Cast-iron skillet; Cast-iron enamel double sink; Several bifold doors w/hardware; Casement windows; Stainless steel table; Tricycle; Shop light; Stainless steel grill; Firepit; Implement seat; Large traps; \nTOOLS: Post driver; Toolboxes; DeWalt wrenches\, sockets & nut driver set; Craftsman wrench set; Socket sets; Channel locks; Vice grips; Pipe wrenches; Impact wrench; Battery chargers; Welding mask & leathers; Extension cords;
URL:https://danwendelauctions.com/auction/rare-fort-dodge-crocks-american-indian-pottery-southwest-decor-toy-trains-planters-peanut-collection-schaller-galva-advertising-vintage-quil/
LOCATION:Rembrandt Gym Auction House\, 217 S 1st Ave\, Rembrandt\, IA\, 50576\, United States
CATEGORIES:Auctions
ORGANIZER;CN="Dan Wendel Land & Auction%2C LLC":MAILTO:danwendel78@icloud.com
END:VEVENT
END:VCALENDAR