BEGIN:VCALENDAR
VERSION:2.0
PRODID:-//DAN WENDEL AUCTIONS - ECPv6.15.20//NONSGML v1.0//EN
CALSCALE:GREGORIAN
METHOD:PUBLISH
X-ORIGINAL-URL:https://danwendelauctions.com
X-WR-CALDESC:Events for DAN WENDEL AUCTIONS
REFRESH-INTERVAL;VALUE=DURATION:PT1H
X-Robots-Tag:noindex
X-PUBLISHED-TTL:PT1H
BEGIN:VTIMEZONE
TZID:UTC
BEGIN:STANDARD
TZOFFSETFROM:+0000
TZOFFSETTO:+0000
TZNAME:UTC
DTSTART:20250101T000000
END:STANDARD
END:VTIMEZONE
BEGIN:VEVENT
DTSTART;TZID=UTC:20260207T103000
DTEND;TZID=UTC:20260207T183000
DTSTAMP:20260423T210650
CREATED:20260204T214247Z
LAST-MODIFIED:20260204T214248Z
UID:831-1770460200-1770489000@danwendelauctions.com
SUMMARY:OUTDOORSMAN & SPORTSMAN
DESCRIPTION:OUTDOORSMAN / SPORTSMAN SALE!\nGUNS\, AMMO\, ANTLERS\, FISHING EQUIPMENT\, DECOYS\, TRAIL CAMS & MUCH MORE!\nSATURDAY\, FEBRUARY 7th\, 2026\n10:30AM\nOPEN HOUSE: THURSDAY\, FEBRUARY 5th\, 2026 — 2-5PM\nSale located at Historic Rembrandt Gym Auction House\, Rembrandt\, IA\n“The Only Game In Town”\nFOR PHOTOS & MORE\, CLICK *HERE*\nAuctioneer: Dan Wendel Land & Auction\, LLC 712-661-9724 \nTerms: Cash or good check only. Driver’s license/ID required to obtain bidding number. Permit to purchase is required for all handguns. Not responsible for accidents or theft. All sales final. \nFIREARMS: Raven Arms P25 .25 auto pistol w/box; H&R 155 .44 mag SS rifle; Browning Wicked Wing A5 16g shotgun (NIB); Thompson Auto-Ordinance .45 ACP Save America Trump Edition; 1962 Browning Sweet 16 shotgun w/original paperwork; (2) Winchester Model 370 .410g shotguns; Winchester Model 61 .22cal pump rifle; (2) Winchester Model 37 12g shotguns; (3) Winchester Model 12 shotguns (2 w/vent rib\, 1 w/out vent rib); Llama Extra 9mm pistol; Taurus .357 mag revolver (8-shot); Sig Sauer P238 .380 auto (NIB); Winchester 1897 12g shotgun; Beretta U22 Neos pistol; Colt 1911 Mark IV Series 70 Govt Model w/box & papers; Numrich Arms Rem 12 .22cal rifle; Remington Model 1907-15 rifle; Colt New Service .455 Eley revolver w/English proofs; 1973 Colt Frontier .44-40 revolver (Winchester Commemorative); New England Firearms Pardner 20g shotgun; S&W MP 15-22 rifle; (3) Glock G44 .22cal pistols; Glock G17 9mm pistol; Glock 26 9mm compact; Glock G30 .45 ACP; S&W .357 mag revolver w/holster; Walther P22 Laser Set .22cal pistol (NIB); Taurus PT 709 Slim 9mm; Beretta Model 92FS 9mm; Glock G22 Gen 4 .40cal pistol; Colt Defender 9mm pistol (NIB); Sig Sauer P229 Police .40cal (NIB); Beretta 92 9mm w/ivory grips (NIB); Masterpiece Arms 9mm (NIB); Radical Arms AR 5.56 (NIB); Radical Arms 7.62×39 AR (NIB); Ruger .380 auto American Flag Tribute (NIB); American Tactical Alpha Max 5.56 (NIB); Radical Arms Glow in the Dark 5.56 (NIB); American Tactical Alpha Max 300 Blackout (NIB); Caltech Sub 2000 9mm carbine (NIB) w/pulse fire flamethrower; Colt Defender 9mm (NIB); Desert Eagle .50 AE (NIB); Ruger .22cal bolt action rifle (NIB); Anderson Arms 5.56 w/optics (NIB); Bolt-action shotguns; \nAMMO: Several boxes .22 LR rifle shells; Shotgun shells (12g\, 20g\, .410); .38 Special; .380 auto; 9mm; .357 mag; .243 Rem; .30-06; .50 cal bullets; .40 cal S&W; Deer slugs; \nFISHING/EQUIPMENT: Fishing rods; Reels; Nets; Rapala cordless knife; Ice fishing rods & tip-ups; Fillet knives; Tackle boxes; Assorted lures; Humminbird depth finder; Minn Kota trolling motor; Mr. Twister electric knife (NIB); \nHUNTING/EQUIPMENT: Hunting clothing; Ammo boxes; Wooden duck decoys; Ghillie suit; Holsters; Gun cases; Turkey blind; Winchester shot bags; Trail cameras; Scopes; \nOTHER: Salmon mount; Deer antlers; Ducks Unlimited prints; Raccoon & beaver hides; Pheasant skins; and MUCH MORE!
URL:https://danwendelauctions.com/auction/outdoorsman-sportsman/
LOCATION:Rembrandt Gym Auction House\, 217 S 1st Ave\, Rembrandt\, IA\, 50576\, United States
CATEGORIES:Auctions
ORGANIZER;CN="Dan Wendel Land & Auction%2C LLC":MAILTO:danwendel78@icloud.com
END:VEVENT
END:VCALENDAR